View In:
ArcGIS JavaScript
ArcGIS.com Map
Google Earth
ArcMap
View Footprint In:
ArcGIS.com Map
Service Description: This image service contains global Landsat ETM imagery from the 2000 timeframe. The Landsat-7 ETM imagery was dynamically processed using the Tasseled Cap transform which is ideal for monitoring vegetation health and vigor, as well as urban growth. It is based on the tasseled cap transformation concept implemented by Kauth and Thomas (1976) and modified for Landsat ETM by Huang, et. al. (2002), for monitoring vegetation development over a growing season and predicting crop maturity and yields.
The tasseled cap transformation is a special case of principle components analysis (PCA) where the original Landsat bands are transformed into three main components; Brightness which contains most of the variability in the image and is similar to panchromatic imagery, Greenness which is ideal for discriminating between plant species and vigor, and Wetness which is related to water and moist features. The remaining bands contain noise such as haze, clouds and atmospheric affects. Brightness, Greenness and Wetness are displayed as red, green and blue respectively, where bright man-made and natural areas are red, vegetation is green and wet or moist features are blue.
Time Enabled: Yes. (Start Time Field: GLS_START_DATE; End Time Field: GLS_END_DATE)
Data Source: This image service was compiled from Global Land Survey (GLS) datasets: 2000. GLS datasets are created by the United States Geological Survey (USGS) and the National Aeronautics and Space Administration (NASA) using Landsat images. These global minimal-cloud cover, orthorectified Landsat data products support global assessments of land-cover, land cover-change, and ecosystem dynamics such as disturbance and vegetation health.
Name: LandsatGLS/TasseledCap_2000
Description: This image service contains global Landsat ETM imagery from the 2000 timeframe. The Landsat-7 ETM imagery was dynamically processed using the Tasseled Cap transform which is ideal for monitoring vegetation health and vigor, as well as urban growth. It is based on the tasseled cap transformation concept implemented by Kauth and Thomas (1976) and modified for Landsat ETM by Huang, et. al. (2002), for monitoring vegetation development over a growing season and predicting crop maturity and yields.
The tasseled cap transformation is a special case of principle components analysis (PCA) where the original Landsat bands are transformed into three main components; Brightness which contains most of the variability in the image and is similar to panchromatic imagery, Greenness which is ideal for discriminating between plant species and vigor, and Wetness which is related to water and moist features. The remaining bands contain noise such as haze, clouds and atmospheric affects. Brightness, Greenness and Wetness are displayed as red, green and blue respectively, where bright man-made and natural areas are red, vegetation is green and wet or moist features are blue.
Time Enabled: Yes. (Start Time Field: GLS_START_DATE; End Time Field: GLS_END_DATE)
Data Source: This image service was compiled from Global Land Survey (GLS) datasets: 2000. GLS datasets are created by the United States Geological Survey (USGS) and the National Aeronautics and Space Administration (NASA) using Landsat images. These global minimal-cloud cover, orthorectified Landsat data products support global assessments of land-cover, land cover-change, and ecosystem dynamics such as disturbance and vegetation health.
Single Fused Map Cache: false
Extent:
XMin: -179.99998855599998
YMin: -56.87425877188454
XMax: 180.00004121795504
YMax: 81.85670280500008
Spatial Reference: 4326
(4326)
Initial Extent:
XMin: -179.99998855599998
YMin: -56.87425877188454
XMax: 180.00004121795504
YMax: 81.85670280500008
Spatial Reference: 4326
(4326)
Full Extent:
XMin: -179.99998855599998
YMin: -56.87425877188454
XMax: 180.00004121795504
YMax: 81.85670280500008
Spatial Reference: 4326
(4326)
Time Info:
Start Time Field: GLS_START_DATE
End Time Field: GLS_END_DATE
Time Extent:
[1975/01/01 00:00:00 UTC, 2015/12/31 00:00:00 UTC]
Time Reference:
N/A
Pixel Size X: 2.694945852358564E-4
Pixel Size Y: 2.6949458523585636E-4
Band Count: 7
Pixel Type: U8
RasterFunction Infos: {"name":"None","description":"A No-Op Function.","help":""}, {"name":"DRA","description":"DRA, Dynamic Range Adjustment, is a contrast stretch that only stretches the pixel values within the display extent - does not use all the pixel values in the raster dataset.","help":""}
Mensuration Capabilities: None,Basic,Base-Top Shadow Height
Has Histograms: false
Has Colormap: false
Min Scale: 0
Max Scale: 0
Copyright Text: United States Geological Survey (USGS), National Aeronautics and Space Administration (NASA), Esri Inc.
Service Data Type: esriImageServiceDataTypeGeneric
Min Values: N/A
Max Values: N/A
Mean Values: N/A
Standard Deviation Values: N/A
Object ID Field: OBJECTID
Fields:
-
OBJECTID
(
type: esriFieldTypeOID
, alias: OBJECTID
)
-
Shape
(
type: esriFieldTypeGeometry
, alias: Shape
)
-
Name
(
type: esriFieldTypeString
, alias: Name
, length: 50
)
-
MinPS
(
type: esriFieldTypeDouble
, alias: MinPS
)
-
MaxPS
(
type: esriFieldTypeDouble
, alias: MaxPS
)
-
LowPS
(
type: esriFieldTypeDouble
, alias: LowPS
)
-
HighPS
(
type: esriFieldTypeDouble
, alias: HighPS
)
-
Category
(
type: esriFieldTypeInteger
, alias: Category
, Coded Values:
[0: Unknown]
, [1: Primary]
, [2: Overview]
, ...5 more...
)
-
Tag
(
type: esriFieldTypeString
, alias: Tag
, length: 20
)
-
GroupName
(
type: esriFieldTypeString
, alias: GroupName
, length: 50
)
-
ProductName
(
type: esriFieldTypeString
, alias: ProductName
, length: 50
)
-
CenterX
(
type: esriFieldTypeDouble
, alias: CenterX
)
-
CenterY
(
type: esriFieldTypeDouble
, alias: CenterY
)
-
ZOrder
(
type: esriFieldTypeInteger
, alias: ZOrder
)
-
Shape_Length
(
type: esriFieldTypeDouble
, alias: Shape_Length
)
-
Shape_Area
(
type: esriFieldTypeDouble
, alias: Shape_Area
)
-
Product_Name
(
type: esriFieldTypeString
, alias: Product_Name
, length: 50
)
-
SensorName
(
type: esriFieldTypeString
, alias: Sensor Name
, length: 20
)
-
AcquisitionDate
(
type: esriFieldTypeDate
, alias: Acquisition Date
, length: 8
)
-
SunAzimuth
(
type: esriFieldTypeDouble
, alias: Sun Azimuth
)
-
SunElevation
(
type: esriFieldTypeDouble
, alias: Sun Elevation
)
-
CloudCover
(
type: esriFieldTypeDouble
, alias: Cloud Cover
)
-
WRS_PATH
(
type: esriFieldTypeInteger
, alias: WRS_PATH
)
-
WRS_ROW
(
type: esriFieldTypeInteger
, alias: WRS_ROW
)
-
OffNadir
(
type: esriFieldTypeDouble
, alias: OffNadir
)
-
RadianceGain
(
type: esriFieldTypeInteger
, alias: Radiance Gain
)
-
RadianceBias
(
type: esriFieldTypeInteger
, alias: Radiance Bias
)
-
Year
(
type: esriFieldTypeSmallInteger
, alias: Year
)
-
Name101
(
type: esriFieldTypeString
, alias: Name101
, length: 90
)
-
JulianDay
(
type: esriFieldTypeSmallInteger
, alias: JulianDay
)
-
Quarter
(
type: esriFieldTypeSmallInteger
, alias: Quarter
)
-
Month
(
type: esriFieldTypeSmallInteger
, alias: Month
)
-
GLS_START_DATE
(
type: esriFieldTypeDate
, alias: GLS_START_DATE
, length: 8
)
-
GLS_END_DATE
(
type: esriFieldTypeDate
, alias: GLS_END_DATE
, length: 8
)
-
GLS_START_75
(
type: esriFieldTypeDate
, alias: GLS_START_75
, length: 8
)
-
GLS_END_75
(
type: esriFieldTypeDate
, alias: GLS_END_75
, length: 8
)
-
GLS_Start90_10
(
type: esriFieldTypeDate
, alias: GLS_Start90_10
, length: 8
)
-
GLS_END90_10
(
type: esriFieldTypeDate
, alias: GLS_END90_10
, length: 8
)
Raster Attribute Table: false
Default Mosaic Method: ByAttribute
Allowed Mosaic Methods: ByAttribute,NorthWest,Center,LockRaster,Nadir,Viewpoint,Seamline,None
SortField: AcquisitionDate
SortValue: 3000/12/12
Mosaic Operator: First
Default Compression Quality: 80
Default Resampling Method: Bilinear
Max Record Count: 1000
Max Image Height: 4100
Max Image Width: 15000
Max Download Image Count: 20
Max Mosaic Image Count: 20
Allow Raster Function: true
Raster Type Infos:
Name: Raster Dataset
Description: Supports all ArcGIS Raster Datasets
Help:
Has Raster Attribute Table: false
Edit Fields Info: null
Ownership Based AccessControl For Rasters: null
Child Resources:
Info
Key Properties
Supported Operations:
Export Image
Query
Identify
Measure