View In:
ArcGIS JavaScript
ArcGIS.com Map
Google Earth
ArcMap
View Footprint In:
ArcGIS.com Map
Service Description: This Esri Landsat image service was compiled from the Global Land Survey (GLS) 1975 Multispectral Scanner (MSS) dataset. The data set is comprised of Landsat 1, 2, 3 and 4 with 60 meter resolution.
Time Enabled: Yes. (Start Time Field: GLS_START_75; End Time Field: GLS_END_75)
Source: GLS datasets are created by the U.S. Geological Survey (USGS) and the National Aeronautics and Space Administration (NASA) using Landsat images. These global minimal-cloud cover, leaf-on, orthorectified Landsat data products support global assessments of land-cover, land cover-change, and ecosystem dynamics such as disturbance and vegetation health.
Name: LandsatGLS/MSS_Multispectral_1975
Description: This Esri Landsat image service was compiled from the Global Land Survey (GLS) 1975 Multispectral Scanner (MSS) dataset. The data set is comprised of Landsat 1, 2, 3 and 4 with 60 meter resolution.
Time Enabled: Yes. (Start Time Field: GLS_START_75; End Time Field: GLS_END_75)
Source: GLS datasets are created by the U.S. Geological Survey (USGS) and the National Aeronautics and Space Administration (NASA) using Landsat images. These global minimal-cloud cover, leaf-on, orthorectified Landsat data products support global assessments of land-cover, land cover-change, and ecosystem dynamics such as disturbance and vegetation health.
Single Fused Map Cache: false
Extent:
XMin: -2.0037507067161843E7
YMin: -7144174.72275679
XMax: 2.003751293283815E7
YMax: 1.6379005277243206E7
Spatial Reference: 102100
(3857)
Initial Extent:
XMin: -2.0037507067161843E7
YMin: -7144174.72275679
XMax: 2.003751293283815E7
YMax: 1.6379005277243206E7
Spatial Reference: 102100
(3857)
Full Extent:
XMin: -2.0037507067161843E7
YMin: -7144174.72275679
XMax: 2.003751293283815E7
YMax: 1.6379005277243206E7
Spatial Reference: 102100
(3857)
Time Info:
Start Time Field: GLS_START_75
End Time Field: GLS_END_75
Time Extent:
[1975/01/01 00:00:00 UTC, 1989/12/31 00:00:00 UTC]
Time Reference:
N/A
Pixel Size X: 29.999999999999993
Pixel Size Y: 29.999999999999996
Band Count: 7
Pixel Type: U8
RasterFunction Infos: {"name":"None","description":"A No-Op Function.","help":""}, {"name":"DRA","description":"DRA, Dynamic Range Adjustment, is a contrast stretch that only stretches the pixel values within the display extent - does not use all the pixel values in the raster dataset.","help":""}
Mensuration Capabilities: Basic,Base-Top Shadow Height
Has Histograms: false
Has Colormap: false
Min Scale: 0
Max Scale: 0
Copyright Text: United States Geological Survey (USGS), National Aeronautics and Space Administration (NASA), Esri Inc.
Service Data Type: esriImageServiceDataTypeProcessed
Min Values: N/A
Max Values: N/A
Mean Values: N/A
Standard Deviation Values: N/A
Object ID Field: OBJECTID
Fields:
-
OBJECTID
(
type: esriFieldTypeOID
, alias: OBJECTID
)
-
Shape
(
type: esriFieldTypeGeometry
, alias: Shape
)
-
Name
(
type: esriFieldTypeString
, alias: Name
, length: 50
)
-
MinPS
(
type: esriFieldTypeDouble
, alias: MinPS
)
-
MaxPS
(
type: esriFieldTypeDouble
, alias: MaxPS
)
-
LowPS
(
type: esriFieldTypeDouble
, alias: LowPS
)
-
HighPS
(
type: esriFieldTypeDouble
, alias: HighPS
)
-
Category
(
type: esriFieldTypeInteger
, alias: Category
, Coded Values:
[0: Unknown]
, [1: Primary]
, [2: Overview]
, ...5 more...
)
-
Tag
(
type: esriFieldTypeString
, alias: Tag
, length: 20
)
-
GroupName
(
type: esriFieldTypeString
, alias: GroupName
, length: 50
)
-
ProductName
(
type: esriFieldTypeString
, alias: ProductName
, length: 50
)
-
CenterX
(
type: esriFieldTypeDouble
, alias: CenterX
)
-
CenterY
(
type: esriFieldTypeDouble
, alias: CenterY
)
-
ZOrder
(
type: esriFieldTypeInteger
, alias: ZOrder
)
-
Shape_Length
(
type: esriFieldTypeDouble
, alias: Shape_Length
)
-
Shape_Area
(
type: esriFieldTypeDouble
, alias: Shape_Area
)
-
Product_Name
(
type: esriFieldTypeString
, alias: Product_Name
, length: 50
)
-
SensorName
(
type: esriFieldTypeString
, alias: Sensor Name
, length: 20
)
-
AcquisitionDate
(
type: esriFieldTypeDate
, alias: Acquisition Date
, length: 8
)
-
SunAzimuth
(
type: esriFieldTypeDouble
, alias: Sun Azimuth
)
-
SunElevation
(
type: esriFieldTypeDouble
, alias: Sun Elevation
)
-
CloudCover
(
type: esriFieldTypeDouble
, alias: Cloud Cover
)
-
WRS_PATH
(
type: esriFieldTypeInteger
, alias: WRS_PATH
)
-
WRS_ROW
(
type: esriFieldTypeInteger
, alias: WRS_ROW
)
-
OffNadir
(
type: esriFieldTypeDouble
, alias: OffNadir
)
-
RadianceGain
(
type: esriFieldTypeInteger
, alias: Radiance Gain
)
-
RadianceBias
(
type: esriFieldTypeInteger
, alias: Radiance Bias
)
-
Year
(
type: esriFieldTypeSmallInteger
, alias: Year
)
-
Name101
(
type: esriFieldTypeString
, alias: Name101
, length: 90
)
-
JulianDay
(
type: esriFieldTypeSmallInteger
, alias: JulianDay
)
-
Quarter
(
type: esriFieldTypeSmallInteger
, alias: Quarter
)
-
Month
(
type: esriFieldTypeSmallInteger
, alias: Month
)
-
GLS_START_DATE
(
type: esriFieldTypeDate
, alias: GLS_START_DATE
, length: 8
)
-
GLS_END_DATE
(
type: esriFieldTypeDate
, alias: GLS_END_DATE
, length: 8
)
-
SOrder
(
type: esriFieldTypeInteger
, alias: SOrder
)
-
SLevelPS
(
type: esriFieldTypeDouble
, alias: SLevelPS
)
Raster Attribute Table: false
Default Mosaic Method: ByAttribute
Allowed Mosaic Methods: ByAttribute,NorthWest,Center,LockRaster,Nadir,Viewpoint,Seamline,None
SortField: AcquisitionDate
SortValue: 3000/12/12
Mosaic Operator: First
Default Compression Quality: 80
Default Resampling Method: Bilinear
Max Record Count: 1000
Max Image Height: 4100
Max Image Width: 15000
Max Download Image Count: 20
Max Mosaic Image Count: 20
Allow Raster Function: true
Raster Type Infos:
Name: Raster Dataset
Description: Supports all ArcGIS Raster Datasets
Help:
Has Raster Attribute Table: false
Edit Fields Info: null
Ownership Based AccessControl For Rasters: null
Child Resources:
Info
Key Properties
Supported Operations:
Export Image
Query
Identify
Measure