View In:
ArcGIS JavaScript
ArcGIS.com Map
Google Earth
ArcMap
View Footprint In:
ArcGIS.com Map
Service Description: Natural color, 15-meter resolution pansharpened Landsat imagery, enhanced with topographic hillshading and color balancing. Time Enabled: No.
Source: GLS datasets are created by the U.S. Geological Survey (USGS) and the National Aeronautics and Space Administration (NASA) using GLS2000 Landsat images. These global minimal-cloud cover, orthorectified Landsat data products support global assessments of land-cover, land cover-change, and ecosystem dynamics such as disturbance and vegetation health.
Name: LandsatGLS/LandsatShadedBasemap
Description: Natural color, 15-meter resolution pansharpened Landsat imagery, enhanced with topographic hillshading and color balancing. Time Enabled: No.
Source: GLS datasets are created by the U.S. Geological Survey (USGS) and the National Aeronautics and Space Administration (NASA) using GLS2000 Landsat images. These global minimal-cloud cover, orthorectified Landsat data products support global assessments of land-cover, land cover-change, and ecosystem dynamics such as disturbance and vegetation health.
Single Fused Map Cache: true
Tile Info:
- Height: 256
- Width: 256
- DPI: 96
-
Levels of Detail: 14
-
Level ID: 1
[ Start Tile, End Tile ]
- Resolution: 78271.5169639999
- Scale: 2.95828763795777E8
-
Level ID: 2
[ Start Tile, End Tile ]
- Resolution: 39135.7584820001
- Scale: 1.47914381897889E8
-
Level ID: 3
[ Start Tile, End Tile ]
- Resolution: 19567.8792409999
- Scale: 7.3957190948944E7
-
Level ID: 4
[ Start Tile, End Tile ]
- Resolution: 9783.93962049996
- Scale: 3.6978595474472E7
-
Level ID: 5
[ Start Tile, End Tile ]
- Resolution: 4891.96981024998
- Scale: 1.8489297737236E7
- Format: Mixed
- Compression Quality: 75.0
- Origin: X: -2.0037508342787E7
Y: 2.0037508342787E7
- Spatial Reference: 102100
(3857)
Extent:
XMin: -2.0037508342787E7
YMin: -3.0240972592969447E7
XMax: 2.0037508342737455E7
YMax: 3.0240972593018994E7
Spatial Reference: 102100
(3857)
Initial Extent:
XMin: -2.0037508342787E7
YMin: -3.0240972592969447E7
XMax: 2.0037508342737455E7
YMax: 3.0240972593018994E7
Spatial Reference: 102100
(3857)
Full Extent:
XMin: -2.0037508342787E7
YMin: -3.0240972592969447E7
XMax: 2.0037508342737455E7
YMax: 3.0240972593018994E7
Spatial Reference: 102100
(3857)
Pixel Size X: 19.1092570712683
Pixel Size Y: 19.1092570712683
Band Count: 3
Pixel Type: U8
RasterFunction Infos: N/A
Mensuration Capabilities:
Has Histograms: false
Has Colormap: false
Min Scale: 5.91657527591555E8
Max Scale: 72223.819286
Copyright Text: United States Geological Survey (USGS), National Aeronautics and Space Administration (NASA), Esri Inc.
Service Data Type: esriImageServiceDataTypeRGB
Min Values: N/A
Max Values: N/A
Mean Values: N/A
Standard Deviation Values: N/A
Object ID Field:
Fields:
None
Raster Attribute Table: false
Default Mosaic Method: Center
Allowed Mosaic Methods:
SortField:
SortValue: null
Mosaic Operator: First
Default Compression Quality: 75
Default Resampling Method: Bilinear
Max Record Count: null
Max Image Height: 4100
Max Image Width: 15000
Max Download Image Count: null
Max Mosaic Image Count: null
Allow Raster Function: true
Raster Type Infos:
Name: Raster Dataset
Description: Supports all ArcGIS Raster Datasets
Help:
Has Raster Attribute Table: false
Edit Fields Info: null
Ownership Based AccessControl For Rasters: null
Child Resources:
Info
Key Properties
Supported Operations:
Export Image
Identify