View In:
ArcGIS JavaScript
ArcGIS.com Map
Google Earth
ArcMap
View Footprint In:
ArcGIS.com Map
Service Description: This Esri image service contains global 30 meter resolution Landsat imagery from 1990-2010. This 5 4 3 band combination provides information and color contrast for detecting vegetation and bare soil. It is useful for vegetation studies and is widely used in timber management, infestation detection and management, and crop monitoring.Vigorous, irrigated vegetation appear with a bright green while crops in arid regions, deciduous and coniferous forests appear with a progressively darker green. Soils appear as tan, brown, and mauve. This band combination
Band Combination: 5 4 3 (Near infrared (5), Near infrared (4), Red (3) into RGB)
Time Enabled: Yes. (Start Time Field: GLS_START90_10; End Time Field: GLS_END90_10)
Data Source: This image service was compiled from Global Land Survey (GLS) datasets: 1990, 2000, 2005 and 2010. GLS datasets are created by the United States Geological Survey (USGS) and the National Aeronautics and Space Administration (NASA) using Landsat images. These global minimal-cloud cover, orthorectified Landsat data products support global assessments of land-cover, land cover-change, and ecosystem dynamics such as disturbance and vegetation health.
Name: LandsatGLS/VegetationAnalysis
Description: This Esri image service contains global 30 meter resolution Landsat imagery from 1990-2010. This 5 4 3 band combination provides information and color contrast for detecting vegetation and bare soil. It is useful for vegetation studies and is widely used in timber management, infestation detection and management, and crop monitoring.Vigorous, irrigated vegetation appear with a bright green while crops in arid regions, deciduous and coniferous forests appear with a progressively darker green. Soils appear as tan, brown, and mauve. This band combination
Band Combination: 5 4 3 (Near infrared (5), Near infrared (4), Red (3) into RGB)
Time Enabled: Yes. (Start Time Field: GLS_START90_10; End Time Field: GLS_END90_10)
Data Source: This image service was compiled from Global Land Survey (GLS) datasets: 1990, 2000, 2005 and 2010. GLS datasets are created by the United States Geological Survey (USGS) and the National Aeronautics and Space Administration (NASA) using Landsat images. These global minimal-cloud cover, orthorectified Landsat data products support global assessments of land-cover, land cover-change, and ecosystem dynamics such as disturbance and vegetation health.
Single Fused Map Cache: false
Extent:
XMin: -179.99999999999997
YMin: -61.299682866514814
XMax: 180.00002977395505
YMax: 83.30464370100009
Spatial Reference: 4326
(4326)
Initial Extent:
XMin: -179.99999999999997
YMin: -61.299682866514814
XMax: 180.00002977395505
YMax: 83.30464370100009
Spatial Reference: 4326
(4326)
Full Extent:
XMin: -179.99999999999997
YMin: -61.299682866514814
XMax: 180.00002977395505
YMax: 83.30464370100009
Spatial Reference: 4326
(4326)
Time Info:
Start Time Field: GLS_Start90_10
End Time Field: GLS_END90_10
Time Extent:
[1990/01/01 00:00:00 UTC, 2015/12/31 00:00:00 UTC]
Time Reference:
N/A
Pixel Size X: 2.694945852358564E-4
Pixel Size Y: 2.694945852358564E-4
Band Count: 3
Pixel Type: U8
RasterFunction Infos: {"name":"DRA","description":"DRA, Dynamic Range Adjustment, is a contrast stretch that only stretches the pixel values within the display extent - does not use all the pixel values in the raster dataset.","help":""}
Mensuration Capabilities: Basic,Base-Top Shadow Height
Has Histograms: false
Has Colormap: false
Min Scale: 0
Max Scale: 0
Copyright Text: United States Geological Survey (USGS), National Aeronautics and Space Administration (NASA), Esri Inc.
Service Data Type: esriImageServiceDataTypeRGB
Min Values: 0, 0, 0
Max Values: 255, 255, 255
Mean Values: 0, 0, 0
Standard Deviation Values: -1, -1, -1
Object ID Field: OBJECTID
Fields:
-
OBJECTID
(
type: esriFieldTypeOID
, alias: OBJECTID
)
-
Shape
(
type: esriFieldTypeGeometry
, alias: Shape
)
-
Name
(
type: esriFieldTypeString
, alias: Name
, length: 50
)
-
MinPS
(
type: esriFieldTypeDouble
, alias: MinPS
)
-
MaxPS
(
type: esriFieldTypeDouble
, alias: MaxPS
)
-
LowPS
(
type: esriFieldTypeDouble
, alias: LowPS
)
-
HighPS
(
type: esriFieldTypeDouble
, alias: HighPS
)
-
Category
(
type: esriFieldTypeInteger
, alias: Category
, Coded Values:
[0: Unknown]
, [1: Primary]
, [2: Overview]
, ...5 more...
)
-
Tag
(
type: esriFieldTypeString
, alias: Tag
, length: 20
)
-
GroupName
(
type: esriFieldTypeString
, alias: GroupName
, length: 50
)
-
ProductName
(
type: esriFieldTypeString
, alias: ProductName
, length: 50
)
-
CenterX
(
type: esriFieldTypeDouble
, alias: CenterX
)
-
CenterY
(
type: esriFieldTypeDouble
, alias: CenterY
)
-
ZOrder
(
type: esriFieldTypeInteger
, alias: ZOrder
)
-
Shape_Length
(
type: esriFieldTypeDouble
, alias: Shape_Length
)
-
Shape_Area
(
type: esriFieldTypeDouble
, alias: Shape_Area
)
-
Product_Name
(
type: esriFieldTypeString
, alias: Product_Name
, length: 50
)
-
SensorName
(
type: esriFieldTypeString
, alias: Sensor Name
, length: 20
)
-
AcquisitionDate
(
type: esriFieldTypeDate
, alias: Acquisition Date
, length: 8
)
-
SunAzimuth
(
type: esriFieldTypeDouble
, alias: Sun Azimuth
)
-
SunElevation
(
type: esriFieldTypeDouble
, alias: Sun Elevation
)
-
CloudCover
(
type: esriFieldTypeDouble
, alias: Cloud Cover
)
-
WRS_PATH
(
type: esriFieldTypeInteger
, alias: WRS_PATH
)
-
WRS_ROW
(
type: esriFieldTypeInteger
, alias: WRS_ROW
)
-
OffNadir
(
type: esriFieldTypeDouble
, alias: OffNadir
)
-
RadianceGain
(
type: esriFieldTypeInteger
, alias: Radiance Gain
)
-
RadianceBias
(
type: esriFieldTypeInteger
, alias: Radiance Bias
)
-
Year
(
type: esriFieldTypeSmallInteger
, alias: Year
)
-
Name101
(
type: esriFieldTypeString
, alias: Name101
, length: 90
)
-
JulianDay
(
type: esriFieldTypeSmallInteger
, alias: JulianDay
)
-
Quarter
(
type: esriFieldTypeSmallInteger
, alias: Quarter
)
-
Month
(
type: esriFieldTypeSmallInteger
, alias: Month
)
-
GLS_START_DATE
(
type: esriFieldTypeDate
, alias: GLS_START_DATE
, length: 8
)
-
GLS_END_DATE
(
type: esriFieldTypeDate
, alias: GLS_END_DATE
, length: 8
)
-
SOrder
(
type: esriFieldTypeInteger
, alias: SOrder
)
-
SLevelPS
(
type: esriFieldTypeDouble
, alias: SLevelPS
)
Raster Attribute Table: false
Default Mosaic Method: ByAttribute
Allowed Mosaic Methods: ByAttribute,NorthWest,Center,LockRaster,Nadir,Viewpoint,Seamline,None
SortField: GLS_END_DATE
SortValue: 3000/12/15
Mosaic Operator: First
Default Compression Quality: 80
Default Resampling Method: Bilinear
Max Record Count: 1000
Max Image Height: 4100
Max Image Width: 15000
Max Download Image Count: 20
Max Mosaic Image Count: 20
Allow Raster Function: true
Raster Type Infos:
Name: Raster Dataset
Description: Supports all ArcGIS Raster Datasets
Help:
Has Raster Attribute Table: false
Edit Fields Info: null
Ownership Based AccessControl For Rasters: null
Child Resources:
Info
Key Properties
Supported Operations:
Export Image
Query
Identify
Measure